BEGIN:VCALENDAR
VERSION:2.0
PRODID:-//Sharon Land Trust - ECPv6.15.20//NONSGML v1.0//EN
CALSCALE:GREGORIAN
METHOD:PUBLISH
X-WR-CALNAME:Sharon Land Trust
X-ORIGINAL-URL:https://sharonlandtrust.org
X-WR-CALDESC:Events for Sharon Land Trust
REFRESH-INTERVAL;VALUE=DURATION:PT1H
X-Robots-Tag:noindex
X-PUBLISHED-TTL:PT1H
BEGIN:VTIMEZONE
TZID:America/New_York
BEGIN:DAYLIGHT
TZOFFSETFROM:-0500
TZOFFSETTO:-0400
TZNAME:EDT
DTSTART:20250309T070000
END:DAYLIGHT
BEGIN:STANDARD
TZOFFSETFROM:-0400
TZOFFSETTO:-0500
TZNAME:EST
DTSTART:20251102T060000
END:STANDARD
BEGIN:DAYLIGHT
TZOFFSETFROM:-0500
TZOFFSETTO:-0400
TZNAME:EDT
DTSTART:20260308T070000
END:DAYLIGHT
BEGIN:STANDARD
TZOFFSETFROM:-0400
TZOFFSETTO:-0500
TZNAME:EST
DTSTART:20261101T060000
END:STANDARD
BEGIN:DAYLIGHT
TZOFFSETFROM:-0500
TZOFFSETTO:-0400
TZNAME:EDT
DTSTART:20270314T070000
END:DAYLIGHT
BEGIN:STANDARD
TZOFFSETFROM:-0400
TZOFFSETTO:-0500
TZNAME:EST
DTSTART:20271107T060000
END:STANDARD
END:VTIMEZONE
BEGIN:VEVENT
DTSTART;TZID=America/New_York:20260521T100000
DTEND;TZID=America/New_York:20260521T120000
DTSTAMP:20260425T082605
CREATED:20260424T155919Z
LAST-MODIFIED:20260424T155919Z
UID:7605-1779357600-1779364800@sharonlandtrust.org
SUMMARY:Volunteer Work Day: D'Alton Preserve
DESCRIPTION:Join our Stewardship Director\, Tim Hunter\, and Land Steward\, Sophie Lake-Ginouves\, on our secluded D’Alton Preserve for a fun morning of trail maintenance. Our main focus will be improving trail drainage and doing some light brush clean up. This hike is considered easy. Volunteer days are a great way to meet cool people\, get some exercise\, and do some good for our trails–no previous experience required! \n\nThursday\, May 21\n10:00am to 12:00pm\n101 West Woods Rd #2\n\nEmail timhunter@sharonlandtrust.org if you are interested in joining us or if you have any questions. Not yet registered as a volunteer? Use this link to register. \nWe hope to see you there!
URL:https://sharonlandtrust.org/event/volunteer-work-day-dalton-preserve/
LOCATION:D’Alton Preserve\, 101 Westwoods 2 Rd\, Sharon\, CT\, 06069\, United States
ATTACH;FMTTYPE=image/jpeg:https://sharonlandtrust.org/wp-content/uploads/2026/04/image-scaled-e1777046326615.jpg
END:VEVENT
BEGIN:VEVENT
DTSTART;VALUE=DATE:20260606
DTEND;VALUE=DATE:20260607
DTSTAMP:20260425T082605
CREATED:20260316T154302Z
LAST-MODIFIED:20260317T133847Z
UID:7579-1780704000-1780790399@sharonlandtrust.org
SUMMARY:Community Day
DESCRIPTION:Save the date for our 2026 Community Day! From guided hikes to scavenger hunts to workshops\, this will be a fun day of activities for children and adults alike. Stay tuned in for a more details as we inch closer to summer! \n\nWhere: Hamlin Preserve\, 19 Stone House Rd\nWhen: June 6th\, 2026\n\n 
URL:https://sharonlandtrust.org/event/community-day/
LOCATION:Hamlin Preserve\, 19 Stone House Road\, Sharon\, CT\, 06069\, United States
CATEGORIES:Public Events
ATTACH;FMTTYPE=image/jpeg:https://sharonlandtrust.org/wp-content/uploads/2026/03/IMG_5852-scaled-e1773675730307.jpg
END:VEVENT
END:VCALENDAR